BEGIN:VCALENDAR
VERSION:2.0
PRODID:-//wp-events-plugin.com//7.2.3.1//EN
TZID:Europe/Stockholm
X-WR-TIMEZONE:Europe/Stockholm
BEGIN:VEVENT
UID:41@aros.nordmark.org
DTSTART;TZID=Europe/Stockholm:20200328T150000
DTEND;TZID=Europe/Stockholm:20200328T163000
DTSTAMP:20200315T191023Z
URL:https://aros.nordmark.org/events/aros-arsmote-2020/
SUMMARY:Aros Årsmöte 2020
DESCRIPTION:Årets årsmöte går av stapeln kl 15 lördagen den 28 mars 20
 20 via Skype-länk som skickats ut till alla betalande medlemmar i SKA Aro
 s.\n\nOm någon medlem inte har fått den är ni välkomna att höra av er
  till drots@aros.nordmark.org\n\nDagordning:\n\n 	 Mötet öppnas\n 	Val 
 av mötesordförande\, protokollförare och justeringsperson/rösträknare
 .\n 	Fråga om mötets behöriga utlysande.\n 	Vid behov kontroll av närv
 arandes rösträtt dvs. att de har fyllt 12 år och\, för medlemmar som h
 ar fyllt 13 år\, har betalt fastställd medlemsavgift.\n 	Styrelsens verk
 samhetsberättelse och resultat- samt balansräkning för det gångna räk
 enskapsåret föredras.\n 	Revisorns berättelse för det gångna räkensk
 apsåret föredras.\n 	Beslut om ansvarsfrihet för den avgående styrelse
 n.\n 	Val av styrelse för den kommande mandatperioden.\n 	Val av en revis
 or och en revisorssuppleant för den kommande ettårsperioden.\n 	Val av v
 alberedning för den kommande ettårsperioden.\n 	Fastställande av medlem
 savgift för den kommande ettårsperioden.\n 	Eventuella propositioner.\n 
 	Eventuella motioner.\n 	Övriga frågor.\n 	Mötet avslutas.\n\nVälkomna
 !\n\nStyrelsen genom Marit\, ordförande/drots
CATEGORIES:Årsmöte
END:VEVENT
BEGIN:VTIMEZONE
TZID:Europe/Stockholm
X-LIC-LOCATION:Europe/Stockholm
BEGIN:STANDARD
DTSTART:20191027T020000
TZOFFSETFROM:+0200
TZOFFSETTO:+0100
TZNAME:CET
END:STANDARD
END:VTIMEZONE
END:VCALENDAR