BEGIN:VCALENDAR
VERSION:2.0
PRODID:-//wp-events-plugin.com//7.2.3.1//EN
TZID:Europe/Stockholm
X-WR-TIMEZONE:Europe/Stockholm
BEGIN:VEVENT
UID:96@aros.nordmark.org
DTSTART;TZID=Europe/Stockholm;VALUE=DATE:20230120
DTEND;TZID=Europe/Stockholm;VALUE=DATE:20230123
DTSTAMP:20230110T180851Z
URL:https://aros.nordmark.org/events/herstory-20-22-januari/
SUMMARY:Herstory 20-22 januari
DESCRIPTION:Välkommen till Herstory! \n\nHerstory är ett SCA-event där v
 i har fokus på kvinnohistoria likväl som kvinnor och deras plats i SCA. 
 Det kommer bli en helg full av föreläsningar och workshops kring detta t
 ema och självfallet en smarrig bankett på lördagen. \n\nDatum: 20 - 22
  Januari\, 2023\n\nSite: Medåkers Bygdegård\, Tåbyvägen 25\, 732 96 Ar
 boga \n\nKostnad för full helg\, SCA-medlem: \n\n450 sek\nMer info om ko
 stnader och site hittas nedan.\n\nRegistrering sker här.\n\nAntalet plats
 er är 50 st helgpass och 20 st lördagspass\, registrering öppnar 10/10 
 2022 kl. 19:00.\n\nSchema för eventet hittas nedan och sätts slutgiltigt
  5 december.\n\nÄr du intresserad av att hålla i en föreläsning eller 
 workshop kring temat\, fyll i det här formuläret\, senast 20 november.\n
 \n—------------------------------------------\nWelcome to Herstory! \n\
 n&nbsp\;\n\nHerstory is an SCA event where we focus on women’s history a
 s well as possibilities for different discussion groups about the very div
 erse group that is "women" in the SCA.. It will be a weekend full of lectu
 res and workshops around this theme as well as a tasty grand feast during 
 Saturday evening. \n\nEven if the event is focused on women's history and
  women in the SCA\, of course everybody is warmly welcomed\, regardless of
  gender.\n\nDate: 20 -22 January\, 2023 \n\nSite: Medåkers Bygdegård\, 
 Tåbyvägen 25\, 732 96 Arboga\, Sweden\n\n&nbsp\;\n\nCost for the whole w
 eekend: \n\n450 sek for SCA-members \nMore info below.\n\n&nbsp\;\n\nRegi
 ster here.\n\nNumber of spaces are limited to 50 full weekend and 20 daytr
 ipers\, registration opens 10th October 2022 at 19:00 (7 pm) Swedish time 
 (UTC+1).\n\n&nbsp\;\n\nYou will find the schedule below\, it will be final
 ized by 5th December 2022.\n\n&nbsp\;\n\nAre you interested in holding a c
 lass or a workshop on the events theme of women and women’s history? Ple
 ase fill in this form\, 20th November 2022 by the latest.\n\n&nbsp\;\n\nPr
 aktiskt -\n\nAnmälan / Register\n\nRegistreringen öppnar svensk tid 10 o
 ktober\, kl 19:00.\n\nBegränsat antal platser\, först till kvarn! \nSena
 ste dag att avanmäla sig från eventet igen utan att bli skyldig att beta
 la anmälningsavgiften är: 31 december\, 2022.  \n\nFörseningsavgift p
 å 100 kr/person tillkommer på betalningar efter 31 December\, 2022.  \
 n\nDu registrerar dig på eventet här.\n\n&nbsp\;\n\nRegistration opens S
 wedish time (UTC+1)\, 10 October\, 19:00 (7 pm). \n\nLimited amount of pa
 rticipants\, first come first served! \nLast date to cancel your registrat
 ion without having to pay the event fee is: 30 December\, 2022.\n\nLate pa
 yment fee is 100sek/person for payments after 31 December\, 2022. \n\nPle
 ase register via this link.\n\n&nbsp\;\n\nAnmälda\n\nSite &amp\; tillgän
 glighet / Site and accessbility \n\nSovmöjligheter: \n\nDen här siten 
 har enbart s.k. crash space. Det betyder plats på golv\, du tar med dig e
 gen madrass att sova på. För folk som reser långt med flyg gör vi vår
 t bästa för att hjälpa till med sovsaker\, hör av dig till autokratern
 a om detta i god tid om du har behov av att låna madrass etc. \nHar du be
 hov av riktig säng rekommenderar vi att du kollar in hotell och motell i 
 Arboga (15 min från site) och Köping (20 min från site). Sover du inte 
 på siten så betalar du självklart bara för “dagspass”. \n\n&nbsp\
 ;\n\nTillgänglighet: \n\nDenna site är relativt rullstolsvänlig. Utomh
 us-området består av grusplan och gräsmatta och är tämligen platt uta
 n höga backar. Det finns en ramp upp till nedervåningen där bankettsale
 n finns. Där finns också handikapptoalett och det kommer finnas möjligh
 eter för crash space på nedervåningen. Övervåningen är ej tillgängl
 ig för rullstolsbundna då det bara finns trappa dit\, men dessa utrymmen
  kommer mestadels används till crash space. Om du har speciella behov nä
 r det kommer till siten\, hör av dig till oss autokrater så ska vi göra
  vårt bästa för att det ska bli så bra som möjligt.  \n\n&nbsp\;\n\
 n—----------------\n\n&nbsp\;\n\nSleep accommodations: \n\nThis site of
 fers only so-called “crash space”\, which means a spot on the floor an
 d you have to bring your own mattress. \nIf you travel from afar by air we
  will do our best to help you with your mattress and such\, please contact
  the autocrats in good time before the event if you need help with this. 
 \n\nIf you need better sleep accommodations we recommend you to check for 
 hotels or motels in the town of Arboga (15 min from the site) or Köping (
 20 min from the site). If you don’t sleep on site you will of course onl
 y pay for “day pass”. \n\n&nbsp\;\n\nAccessibility: \n\nThis site is
  relatively wheelchair friendly. The area outside has gravel and grass and
  is pretty flat with no big hills. The house has a ramp to the ground floo
 r where the feasthall is and there is also a handicap toilet on that floor
 . There will be possibilities for crash space on the ground floor. The upp
 er floor is not available for people that have trouble walking\, but those
  rooms will mainly be used for crash space. Please let us autocrats know i
 f you have special needs when it comes to the site and we will do our best
  to help you and adapt so you can be comfortable. \n\n&nbsp\;\n\n\nBetaln
 ing/ Payment\n\nBetalning sker till SKA Aros PG: PG 475835-5\n\nMärk bet
 alningen med "Herstory" och ditt mundana namn.\n\nSenaste betalningsdag f
 ör att få hela anmälningsavgiften tillbaka är 31 December\, 2022. \n\
 nFörseningsavgift efter 31 December är 100 kr\, och det kommer att till
 ämpas.\n\nDyker man inte upp på eventet efter anmälan måste hela avgif
 ten betalas in.\n\n&nbsp\;\n\nPayment can be done to SKA AROS PG: 475835-5
 \n\nPayment after 31th December will induce a late fee of 100 SEK.\n\nNo-s
 how will pay the full event fee.\n\nForeign guests can pay at the door wit
 hout a late fee if they provide traveling details to the autocrats by 31th
  December\, 2022. \n\n \n\nFAQ\n\n&nbsp\;\n\nSäkerhet och trygghet / Sa
 fety and security\n\nVi vill att alla på vårt event ska känna sig trygg
 a\, både när det kommer till det mentala likväl som det fysiska. \n\nNo
 rdmarks Anti-trakasseri policy &amp\; Drachenwalds Code of Conduct \n\nTr
 akasserier och mobbning hör inte hemma i SCA och Nordmark. Vi vill att al
 la våra deltagare läser igenom Nordmarks anti-trakasseri policy som för
 klarar vad vi förväntar oss av dig som deltagare likväl vad du kan för
 vänta dig\, samt också vart du kan vända dig om det händer något som 
 gör att du eller någon annan känner er otrygga på Nordmarks-event. Det
  är inte alltid man vågar eller kan agera när själva situationen händ
 er\, så skulle något hända under vårt event tveka inte att kontakta n
 ågon av oss autokrater så vi kan hjälpa er att lösa situationen. \n\n
 &nbsp\;\n\nDrachenwald har även de en Code of conduct\, som beskriver hur
  vi förväntas oss att våra medlemmar beter sig på event. Den kan ni hi
 tta här. \n\n&nbsp\;\n\nCovid-19 och andra smittsamma sjukdomar\n\nIngen
  vill bli sjuk på ett event\, oavsett om det är Covid eller vanlig förk
 ylning. Sjukdomar är dock ett otyg vi tyvärr får dras med ibland och d
 å vi vet att både covid och andra virus lätt börjar smitta innan sympt
 om dyker upp så kan vi inte total-försäkra oss från att folk smittar n
 är vi har event. Men vi kan göra det bästa för att försöka förhindr
 a att många blir sjuka så därför har vi ett gäng regler på detta eve
 nt. \n\nDetta gäller:\n\n 	Var vaccinerad eller uppvisa ett negativt PCR-
 test. Ha ditt vaccinerings-intyg redo när du kommer till eventet och anm
 äl dig först i trollet innan du bär in dina saker. Är du inte vacciner
 ad så vill vi att du uppvisar ett PCR-test taget senast 48h innan eventet
 . \n\n\n 	Kom inte till siten om du har förkylnings-symptom så som ont 
 i halsen\, hosta\, snuva eller feber. Detta gäller även om du testat neg
 ativt för Covid-19. Stanna hemma och ta hand om dig själv och dina sympt
 om istället. Kan vi betala tillbaka utan att gå back på eventet så kom
 mer vi göra det om du behöver avanmäla dig sent. \n 	Ta med egen handd
 uk! Det kommer finnas krokar i hallen utanför toaletterna och märktejp o
 ch penna i trollet. Märk upp en krok och häng din handduk där. Egna han
 ddukar minskar risk för virus-spridning. \n\n\n 	Använd handspriten inn
 e på toaletterna! Det kan tyckas som att du inte behöver det för att du
  tvättar ju händerna med tvål\, men handspriten ger oss en extra säker
 het\, så använd den flitigt och mycket. Den finns där för din skull.\n
 \n\n 	Fråga först innan du kramar någon och acceptera om denne säger n
 ej. \n\n\n 	Diskning sker på övervåningen. Diskbaljor med ljummet vatt
 en är som Disneyland för virus och bakterier\, så vi undviker det och d
 iskar vår personliga disk i det lilla köket på övervåningen. Har du s
 vårt att gå i trappor så prata med någon av autokraterna så ordnar vi
  så du kan få diska i stora köket. \n\n&nbsp\;\n\n&nbsp\;\n\n—------
 -------\n\n\nSafety and security \n\nWe want our events to feel safe and 
 comfortable for everyone\, both when it comes to the mental as well as the
  physical. \n\n&nbsp\;\n\nDrachenwalds code of conduct\n\nWe have asked o
 ur Swedish speaking members to read the anti-harrasment policy for Nordmar
 k before the event. \nFor our English speaking members we instead ask you 
 to look through the Drachenwalds Code of Conduct that describes what how w
 e expects our members to behave during our events.\n\n&nbsp\;\n\nIf you en
 d up in a situation during the event where you or somebody else doesn’t 
 feel safe\, please don’t hesitate to contact the autocrats so we can hel
 p you solve the situation. \n\n&nbsp\;\n\nCovid-19 and other contagious d
 iseases \n\nNo one wants to get sick at an event\, whether it's Covid or 
 the common cold. Diseases are\, however\, a nuisance that we unfortunately
  have to deal with at times and since we know that both covid and other vi
 ruses easily start to infect before symptoms appear\, we cannot totally se
 cure ourselves against people getting infected when we have events. But we
  can do our best to try to prevent many people from getting sick\, so ther
 efore we have a bunch of rules at this event.\n\n&nbsp\;\n\nThis applies:\
 n\nBe vaccinated or present a negative PCR test. Have your vaccination cer
 tificate ready when you arrive at the event and register first at the trol
 l before bringing in your things. If you have not been vaccinated\, we wan
 t you to present a PCR test taken no later than 48 hours before the event.
 \n\nDo not come to the site if you have cold symptoms such as a sore throa
 t\, cough\, runny nose or fever. This also applies if you have tested nega
 tive for Covid-19. Stay home and take care of yourself and your symptoms i
 nstead. As long as we are not going minus on the event we will refund you 
 even if you need to cancel late.\n\nBring your own towel! There will be ho
 oks in the hall outside the toilets and marking tape and pencil in the tro
 ll. Mark a hook and hang your towel there. Having your own towel reduces t
 he risk of virus spreading.\n\nUse the hand sanitizer inside the toilets! 
 It may seem like you don't need it because you wash your hands with soap\,
  but the hand sanitizer gives us extra security\, so use it diligently and
  a lot. It's there for you.\n\nAsk first before you hug someone and accept
  if they say no.\n\nDishes will be done in the small kitchen upstairs. Sin
 ks with lukewarm water are like Disneyland for viruses and bacteria\, so w
 e will avoid that and instead wash our personal dishes in the small kitche
 n upstairs. If you have difficulty climbing stairs\, talk to one of the au
 tocrats and we will arrange so that you can wash dishes in the large kitch
 en.\n\n \n\n&nbsp\;\n\nKontakt / Autocrats\n\n&nbsp\;\n\nAgnes Odygd (mun
 danely Agnes Edgren\, She/Her)  \nSite\, anmälan / Site\, registration\n
 \n&nbsp\;\n\nAgnes har varit aktiv inom SCA i ca 22 år. Är mycket intres
 serad av kalligrafi\, illumination och allt som har med teater och musik a
 tt göra. Hon har också en lång erfarenhet av feminism\, jämställdhet 
 och HBGTQIA-frågor inom den mundana världen och anser att alla sådana f
 rågor är minst lika viktiga för att skapa en trygg och bra miljö inom 
 föreningen. \n\nAgnes has been active about 22 years in the SCA. Very in
 terested in calligraphy\, illumination and everything that is theater and 
 music. She also have a long experience working with feminism\, equality an
 d LGBTQIA-questions in the mundane world and believe that these types of q
 uestions are just as important to create a safe and comfortable environmen
 t within the society. \n\nEmail: agnes.edgren@live.se \n\n&nbsp\;\n\nFri
 dR (mundanely Kim Rehnman\, She/They)\n\nFöreläsningar\, schema\, site /
  Lectures\, schedule\, site\n\nFridR har varit med i SCA sedan 2011 och ha
 r sysslat med lajv sedan 2001. Musik\, dans och teater brinner hon extra f
 ör\, och hon vann titeln Norrskensbard 2018. Vikingatid och tidig medelti
 d  är den period hon är mest intresserad av. Inkludering och rättighet
 sfrågor är någonting hon brinner för både inom SCA och i det mundana\
 , och hon sitter med i Drachenwald DEI council (Diversity\, Equity and Inc
 lusion)\n\nFridR had been a part of the SCA since 2011 and before that bee
 n part of the larping community since 2001. She is passionate about music\
 , dance and theater and she won the title of Norrskensbard 2018. She is mo
 stly interested in The viking era and early medieval period. Inclusion and
  humans rights is something that she is passionate about\, both within the
  SCA and mundanly\, and she is a member of the Drachenwald DEI council ((D
 iversity\, Equity and Inclusion)\n\nEmail: kim.falkenskold@gmail.com\n\n&n
 bsp\;\n\nMiriel atte Wille (mundanely Malin Nejström\, She/Her)\n\nEkonom
 i\, anmälan\, webbsida / Economics\, registration\, website \n\nMiriel h
 ar varit med i föreningen i 14 år\, med mest aktivitet de senaste 7 åre
 n. Hon är intresserad av sömnad och hantverk i stort\, mestadels 1300-ta
 l\, samt är aktiv att ordna evenemang för föreningen och är Drots (ord
 förande) för gruppen Gyllengran. Kvinnor och deras levnadsöden genom hi
 storien har alltid varit en källa till fascination och intresse.\n\nMirie
 l has been a part of SCA for 14 years\, but most active during the last 7 
 years. She is interested in sewing and craftsmanship in general\, mostly 1
 4 century. Miriel is active with making events for the association and is 
 Drots for the local shire Gyllengran. Female history and stories have alwa
 ys fascinated and been a source of interest.\n\nEmail: malin.nejstrom@gmai
 l.com\n\nBirna in Svarta (mundanely Elionora Petrarca)\n\nFood\n\nBirna ha
 r varit medlem i SKA Aros i fem år. Hon är fortfarande inte väldigt akt
 iv i föreningen men har deltagit i ett flertal event och varit matokrat p
 å eventet Scarpetta di Novembre 2021 tillsammans med Matheus Leuchensis (
 en av maträtterna som lagades till banketten blev också publicerad i Dra
 chenwald 30 Year Cookbook). Matlagning och bågskytte är hennes största 
 intressen och vid sidan av dessa gillar hon också kalligrafi och vissa te
 xtila hantverk\, som nålbindning och brickvävning.\n\nBirna has been a m
 ember of the SCA for the past five years. She still isn’t very active in
  the Society but has nonetheless participated in several events. In 2021 s
 he was in charge of the food together with Matheus Leuchensis at the event
  Scarpetta di Novembre (one of the dishes that was on the feast menu has r
 ecently been published in the Drachenwald 30 Year Cookbook). Cooking and a
 rchery are her biggest passions\, but she is also interested in calligraph
 y as well as some textile crafts\, like nalbinding and tablet weaving.\n\n
 &nbsp\;\n\n&nbsp\;\n\n&nbsp\;\n\nSchema\n\nFredag\n\n16:00 Site öppnar\n\
 n20.00 Women during the Viking Age - Valkyries\, Traders or Oppressed hous
 ewives?\nAgnes Odygd\n\nLördag\n\n8.00-10.00 Frukost\n\n10.00-12.00 Före
 läsning och workshop - Spinna på medeltida slända och distaf.\nBothild 
 Välling och Karin Torkelsdotter\n\nca 12.00-12.30 Diskussionsforum ”Kvi
 nnor/ icke CIS män i SCA\, vilka utmaningar ser vi”\n\n12.30-13.15 Lunc
 h\n\n13.15-14.00 Föreläsning - Mulieres Salernitanae.\nMatheus Leuchensi
 s\n\n14.15-14.45 Rundabordssamtal - The Lesbian Historic Motif Project (LH
 MP) Kareina Talventytär \n\n15.00-15.30 Föreläsning – Kvinnor i den 
 tidiga kyrkan\, från ett 1800-talsperspektiv.\nMuirgein Uí Néill\n\n15.
 45-16.30 Föreläsning – Minoiska kvinnor- nudister? Gudinnor? Båda?\nE
 llisif Gydasdottir\n\n16.45-17.30 Föreläsning - Eleonora av Akvitanien -
  en poetisk knutpunkt.\nElsa Snakenborg \n\n18.15 Hov\n\n19.00 Bankett\n\
 n21.00 Bardcirkel\n\nSöndag\n\n8.00-10.00 Frukost\n\n(packning och städn
 ing)\n\n12:00 Site stänger\n\n&nbsp\;\n\n&nbsp\;\n\n&nbsp\;\n\nSchedule\n
 \nFriday\n\n18:00 Site opens\n\n20.00 Women during the Viking Age - Valkyr
 ies\, Traders or Oppressed housewives?\nAgnes Odygd\n\nSaturday\n\n8.00-10
 .00 Breakfast\n\n10.00-12.00 Lecture and workshop - Spin on medieval spind
 le and distaff\nBothild Välling and Karin Torkelsdotter\n\nca 12.00-12.30
  Open discussion ”Women/ non CIS men in the SCA\, what challenges do we 
 face” \n\n12.30-13.15 Lunch\n\n13.15-14.00 Lecture - Mulieres Salernita
 nae\nMatheus Leuchensis\n\n14.15-14.45 Round table discussion - The Lesbia
 n Historic Motif Project (LHMP)\nKareina Talventytär \n\n15.00-15.30 Lec
 ture - Women in the early church\, from a 19th century view\nMuirgein Uí 
 Néill\n\n15.45-16.30 Lecture - Minoan women - nudist? Goddess? Both?\nEll
 isif Gydasdottir\n\n16.45-17.30 Lecture - Eleonora of Akvitania – a poet
 ic junktion\nElsa Snakenborg \n\n18.15 Court\n\n19.00 Banquett\n\n21.00 B
 ardic circle\n\nSunday\n\n8.00-10.00 Breakfast\n\n(packing and cleaning)\n
 \n12:00 Site closes\n\nFredag\n\n18:00 Site öppnar\n\nLördag\n\nSöndag\
 n\n12:00 Site stänger
CATEGORIES:Evenemang
LOCATION:Medåkers Bygdegård\, Tåbyvägen 25\, Arboga\, 732 96\, Sweden
X-APPLE-STRUCTURED-LOCATION;VALUE=URI;X-ADDRESS=Tåbyvägen 25\, Arboga\, 7
 32 96\, Sweden;X-APPLE-RADIUS=100;X-TITLE=Medåkers Bygdegård:geo:0,0
END:VEVENT
BEGIN:VTIMEZONE
TZID:Europe/Stockholm
X-LIC-LOCATION:Europe/Stockholm
BEGIN:STANDARD
DTSTART:20221030T020000
TZOFFSETFROM:+0200
TZOFFSETTO:+0100
TZNAME:CET
END:STANDARD
END:VTIMEZONE
END:VCALENDAR