BEGIN:VCALENDAR
VERSION:2.0
PRODID:-//wp-events-plugin.com//7.2.3.1//EN
TZID:Europe/Stockholm
X-WR-TIMEZONE:Europe/Stockholm
BEGIN:VEVENT
UID:226@aros.nordmark.org
DTSTART;TZID=Europe/Stockholm:20250920T130000
DTEND;TZID=Europe/Stockholm:20250920T210000
DTSTAMP:20250908T162248Z
URL:https://aros.nordmark.org/events/knytis-med-hantverk-20-september/
SUMMARY:Knytis med hantverk 20 september
DESCRIPTION:Nu är höstterminen igång\, och vi vill dra på oss kläder o
 ch ordna lite fest i mindre skala.\n\nLördagen den 20 september 2025 bjud
 er Anna in till hantverkande och knytkalas från 13 till 21. Symötet dett
 a datum flyttar helt enkelt plats.\n\nHantverkandet pågår fram tills vi 
 dukar fram knytismaten som vi alla tar med. Vi uppmuntrar historiskt inspi
 rerad mat\, men det är inget krav. Om du vill ha förslag på vad du kan 
 ta med hör av dig till oss på SKA Aros | Facebook.\n\nByt om till middag
 en\, eller redan från början så får vi en mysig dag tillsammans innan 
 höstmörkret sänker sig.\n\nAllergier som kommer finnas:\n\n 	nötter\, 
 mandel\, aprikoskärnor eller körsbär -"Spår av..." går bra\n
CATEGORIES:Inofficiellt evenemang,Knytkalas
END:VEVENT
BEGIN:VTIMEZONE
TZID:Europe/Stockholm
X-LIC-LOCATION:Europe/Stockholm
BEGIN:DAYLIGHT
DTSTART:20250330T030000
TZOFFSETFROM:+0100
TZOFFSETTO:+0200
TZNAME:CEST
END:DAYLIGHT
END:VTIMEZONE
END:VCALENDAR