BEGIN:VCALENDAR
VERSION:2.0
PRODID:-//wp-events-plugin.com//7.2.3.1//EN
TZID:Europe/Stockholm
X-WR-TIMEZONE:Europe/Stockholm
BEGIN:VEVENT
UID:13@aros.nordmark.org
DTSTART;TZID=Europe/Stockholm:20190615T120000
DTEND;TZID=Europe/Stockholm:20190615T124500
DTSTAMP:20190514T191609Z
URL:https://aros.nordmark.org/events/ska-aros-arsmote-2019/
SUMMARY:SKA Aros Årsmöte 2019
DESCRIPTION:Årets årsmöte går av stapeln kl 12 lördagen den 15 juni 20
 19 på Café Linné (Svartbäcksgatan 24\, Uppsala). Vi försöker hitta e
 tt bord på övervåningen om möjligt. Efter mötet kan de som vill forts
 ätta till symötet kl 13\, så vi försöker avsluta i god tid innan dess
 .\n\n\n1. Mötet öppnas\n2. Val av mötesordförande\, protokollförare o
 ch justeringsperson/rösträknare.\n3. Fråga om mötets behöriga utlysan
 de.\n4. Vid behov kontroll av närvarandes rösträtt dvs. att de betalt f
 astställd medlemsavgift och fyllt 12 år.\n5. Styrelsens verksamhetsberä
 ttelse och resultat- samt balansräkning för det gångna räkenskapsåret
  föredras.\n6. Revisorns berättelse för det gångna räkenskapsåret f
 öredras.\n7. Beslut om ansvarsfrihet för den avgående styrelsen.\n8. Va
 l av styrelse för den kommande mandatperioden.\n9. Val av en revisor och 
 en revisorssuppleant för den kommande ettårsperioden.\n10. Val av valber
 edning för den kommande ettårsperioden.\n11. Fastställande av medlemsav
 gift för den kommande ettårsperioden.\n12. Eventuella propositioner.\n13
 . Eventuella motioner.\n14. Övriga frågor.\n15. Mötet avslutas.\n
CATEGORIES:Årsmöte,Månadsmöte
LOCATION:Café Linné\, Svartbäcksgatan 24\, Uppsala\, Sweden
X-APPLE-STRUCTURED-LOCATION;VALUE=URI;X-ADDRESS=Svartbäcksgatan 24\, Uppsa
 la\, Sweden;X-APPLE-RADIUS=100;X-TITLE=Café Linné:geo:0,0
END:VEVENT
BEGIN:VTIMEZONE
TZID:Europe/Stockholm
X-LIC-LOCATION:Europe/Stockholm
BEGIN:DAYLIGHT
DTSTART:20190331T030000
TZOFFSETFROM:+0100
TZOFFSETTO:+0200
TZNAME:CEST
END:DAYLIGHT
END:VTIMEZONE
END:VCALENDAR