BEGIN:VCALENDAR
VERSION:2.0
PRODID:-//wp-events-plugin.com//7.2.3.1//EN
TZID:Europe/Stockholm
X-WR-TIMEZONE:Europe/Stockholm
BEGIN:VEVENT
UID:81@aros.nordmark.org
DTSTART;TZID=Europe/Stockholm:20220327T190000
DTEND;TZID=Europe/Stockholm:20220327T200000
DTSTAMP:20220228T190118Z
URL:https://aros.nordmark.org/events/ska-aros-arsmote-2022/
SUMMARY:SKA Aros Årsmöte 2022
DESCRIPTION:Årets årsmöte går av stapeln kl 19 söndagen den 27 mars 20
 22 via Zoom.
CATEGORIES:Årsmöte
END:VEVENT
BEGIN:VTIMEZONE
TZID:Europe/Stockholm
X-LIC-LOCATION:Europe/Stockholm
BEGIN:DAYLIGHT
DTSTART:20220327T030000
TZOFFSETFROM:+0100
TZOFFSETTO:+0200
TZNAME:CEST
END:DAYLIGHT
END:VTIMEZONE
END:VCALENDAR