BEGIN:VCALENDAR
VERSION:2.0
PRODID:-//wp-events-plugin.com//7.2.3.1//EN
TZID:Europe/Stockholm
X-WR-TIMEZONE:Europe/Stockholm
BEGIN:VEVENT
UID:79@aros.nordmark.org
DTSTART;TZID=Europe/Stockholm:20220604T130000
DTEND;TZID=Europe/Stockholm:20220604T190000
DTSTAMP:20220204T174123Z
URL:https://aros.nordmark.org/events/symote-varterminen-2022-2022-06-04/
SUMMARY:Symöte vårterminen 2022
DESCRIPTION:Vårens symöten kommer ske på lördagar jämna veckor.\n\nSym
 ötet börjar från kl 13 på Fjärdhundragatan 62 Bohman/Boyle på dörre
 n.
CATEGORIES:Symöte
LOCATION:Symöteslokal\, Fjärdhundragatan 62\, 2tr\, Uppsala\, 75337\, Swe
 den
X-APPLE-STRUCTURED-LOCATION;VALUE=URI;X-ADDRESS=Fjärdhundragatan 62\, 2tr\
 , Uppsala\, 75337\, Sweden;X-APPLE-RADIUS=100;X-TITLE=Symöteslokal:geo:0,
 0
END:VEVENT
BEGIN:VTIMEZONE
TZID:Europe/Stockholm
X-LIC-LOCATION:Europe/Stockholm
BEGIN:DAYLIGHT
DTSTART:20220327T030000
TZOFFSETFROM:+0100
TZOFFSETTO:+0200
TZNAME:CEST
END:DAYLIGHT
END:VTIMEZONE
END:VCALENDAR